BEGIN:VCALENDAR
VERSION:2.0
PRODID:-//Buffalo Events Calendar - ECPv6.11.2//NONSGML v1.0//EN
CALSCALE:GREGORIAN
METHOD:PUBLISH
X-WR-CALNAME:Buffalo Events Calendar
X-ORIGINAL-URL:https://events.wnymedia.net
X-WR-CALDESC:Events for Buffalo Events Calendar
REFRESH-INTERVAL;VALUE=DURATION:PT1H
X-Robots-Tag:noindex
X-PUBLISHED-TTL:PT1H
BEGIN:VTIMEZONE
TZID:America/New_York
BEGIN:DAYLIGHT
TZOFFSETFROM:-0500
TZOFFSETTO:-0400
TZNAME:EDT
DTSTART:20260308T070000
END:DAYLIGHT
BEGIN:STANDARD
TZOFFSETFROM:-0400
TZOFFSETTO:-0500
TZNAME:EST
DTSTART:20261101T060000
END:STANDARD
END:VTIMEZONE
BEGIN:VEVENT
DTSTART;TZID=America/New_York:20260329T150000
DTEND;TZID=America/New_York:20260329T180000
DTSTAMP:20260419T102633
CREATED:20260326T053932Z
LAST-MODIFIED:20260329T215401Z
UID:35919-1774796400-1774807200@events.wnymedia.net
SUMMARY:The Cave ~ The Garage Doors~ Alive They Cried
DESCRIPTION:The Garage Doors is a(n) homage band to The Doors\, touching on the truer side of what The Doors were all about…. The Music. It covers the radio-friendly songs but prides itself in the not-so-radio-friendly material. $10 at the door or buy online
URL:https://events.wnymedia.net/event/the-cave-the-garage-doors-alive-they-cried/
LOCATION:71 Military Rd\, Buffalo\, NY 14207-2834\, United States\, 71 Military Rd\, Buffalo\, NY 14207-2834\, United States
ORGANIZER;CN="Sportsmens Tavern":MAILTO:noreply@facebookmail_com
END:VEVENT
BEGIN:VEVENT
DTSTART;TZID=America/New_York:20260327T190000
DTEND;TZID=America/New_York:20260327T220000
DTSTAMP:20260419T102633
CREATED:20260204T201439Z
LAST-MODIFIED:20260419T022614Z
UID:35581-1774638000-1774648800@events.wnymedia.net
SUMMARY:Thievery Corporation - Buffalo
DESCRIPTION:MNM Presents \nThievery Corporation30th Anniversary TourFriday March 27\, 2026Buffalo Riverworks 7pm \nOn sale now 🌐mnmpresents.com \nThievery Corporationthieverycorporation.com \nThirty years into their genre-defying electronic music career\, Thievery Corporation’s founding principles of D.I.Y. and inclusion have become key themes in mainstream social conversation. After a dozen highly acclaimed full-length albums\, remix LPs\, concert recordings\, and over two decades of incendiary live performances that have thrilled audiences worldwide\, Thievery Corporation’s music and message is more relevant and important now than ever. \nThat lack of filter enabled Garza and Hilton to mine their musical inspirations and create one of the most unique bodies of work in electronic music\, respectfully incorporating tastes of international cultural styles\, without ever falling into the trap of cultural appropriation. “We always wondered: with so much incredible music in the world\, why would anyone limit themselves to one genre? Well\, we found out – it’s far easier to stay in one lane than to genre hop!” laughs Hilton. Garza elaborates: “When we started\, we were influenced by music from all over the world\, flipping through bins in second hand record stores for LP’s from Brazil\, India\, Iran\, Jamaica\, jazz records…..we wanted to make music where you didn’t know whether it was recorded today or a decade ago.” Thievery Corporation’s music has always looked toward the future while paying homage to the past\, starting with their groundbreaking debut LP\, 1996’s “Sounds From The Thievery Hi-Fi\,” which both introduced the world to Garza and Hilton as producers and set their course as pioneers of song-based electronic music with wildly diverse vocalists. \nThe band’s legendary D.C. headquarters\, the Eighteenth Street Lounge\, became an epicenter for a diverse group of people and staff from all over the world\, which in turn had a profound influence on their musical output. “D.C. was very cosmopolitan\, lots of places to see international live music and jazz\,” says Garza. “We’d run into people from all over the world and invite them to play with us – so Thievery became an extension of that\, both on our records and in our live performances.” Indeed\, Hilton and Garza’s “Outernational” approach created a world reflected by the artist’s ideals of diversity and acceptance. “25 years after we started\, it seems like the world is catching up\,” Garza opines. “Social consciousness is more mainstream\, awareness of the importance of inclusivity…it’s so encouraging to see so many people working towards these goals in America.” Hilton agrees. “Thievery is a reflection of who we are\, it evolved from our musical tastes. Artists who were for the people\, like The Clash\, Fela Kuti\, Manu Chao were so important to us\, and engaging in social ideas has always been a part of what we’ve tried to do.” People don’t refer to Thievery Corporation as “World Music\,” but it’s safe to say that their music and ethos is global in its scope and ahead of its time at every turn. \nIn a live setting\, Thievery Corporation avoids any electronic dance music tropes. Yes\, you’ll dance\, sweat and put your hands in the air….but their concerts are true performances\, with a killer band of players and an array of vocalists from diverse global cultures. No two shows feel the same. “Our shows are VERY live\, lots of energy\, the com-bination of multiple instruments and singers that take you on a musical journey\,” says Garza. “We have a sitar player\, songs are in different languages – it’s a multicultural experience\, people connect to the band and to each other\, it’s beautiful.” With a world cautiously beginning to emerge from isolation and towards communal events\, Garza is eager to return Thievery Corporation to live performance. “I feel like people have been waiting to celebrate together after being forced apart for too long. We’re all craving that.” \nEric Hilton’s presence at Thievery gigs\, however\, has become an increasingly rare event. “I never really embraced touring; some of the world tours were interesting\, seeing new places and cultures\,” he says. “For me\, touring was tourism. The creative process of making music is more my thing.” And Thievery Corporation have brought the sounds of the world to listeners throughout each of their albums. “There are so many highlights for me. 2014’s Saudade is my favorite record that we’ve done\, a real creative stretch for us. Quiet music is hard to make! Symphonik also. To hear our music done with an orchestra was incredible.” Hilton concedes that over time live performance influenced the studio records. “After Cosmic Game (2011)\, we orchestrated jam sessions and built the records from those. For Temple of I and I (2014)\, we went to Jamaica to jam and record\, which gave that record a different feel and authenticity.” \nLooking back over their career\, Rob Garza and Eric Hilton acknowledge that what drives each of them may be different\, but the mashup of personalities\, sounds\, cultures and experiences birthed something wholly unique. “We love all kinds of music\, which is why Thievery Corporation sounds the way it does\,” the founding partners agree. “We couldn’t possibly incorporate all our tastes into the music\, but we do it more than most.” By not following trends or the whims of major labels\, and embracing the cultural diversities that make the world such a wondrous place\, Thievery Corporation has created a legacy that runs deep and continues to expand. \n“We’ve left nothing undone. We far exceeded what we thought we would do\,” Hilton and Garza agree. And Thievery Corporation’s music will continue on to reverberate and influence the next generation of listeners with an ear toward a global musical experience. \nw/ special guests \nProduced bymnmpresents.com
URL:https://events.wnymedia.net/event/thievery-corporation-buffalo/
LOCATION:Buffalo RiverWorks\, 359 Ganson Street\, Buffalo\, NY\, 14203\, US
ORGANIZER;CN="MNM Presents":MAILTO:noreply@facebookmail_com
END:VEVENT
BEGIN:VEVENT
DTSTART;TZID=America/New_York:20260326T180000
DTEND;TZID=America/New_York:20260326T210000
DTSTAMP:20260419T102633
CREATED:20260326T053932Z
LAST-MODIFIED:20260327T215443Z
UID:35917-1774548000-1774558800@events.wnymedia.net
SUMMARY:Garden Party + Dave & Danusia - Sportsmens Tavern
DESCRIPTION:First set: Garden Party\, Second set: Garden Party WITH special guests Danusia Beatz on drums and Dave Riffel on bass! Lots of great fresh arrangements on our original music 🎶 It’s going to be a special night!$10 at the door
URL:https://events.wnymedia.net/event/garden-party-dave-danusia-sportsmens-tavern/
LOCATION:Sportsmens Tavern\, 326 Amherst St\, Buffalo\, NY\, 14207\, US
END:VEVENT
BEGIN:VEVENT
DTSTART;TZID=America/New_York:20260319T190000
DTEND;TZID=America/New_York:20260319T220000
DTSTAMP:20260419T102633
CREATED:20260302T201125Z
LAST-MODIFIED:20260418T022629Z
UID:35704-1773946800-1773957600@events.wnymedia.net
SUMMARY:Eberwine And Friends - Sportsmen's 3/19
DESCRIPTION:EAF plays two sets starting at 7PM $10 at the door \nLineup:Todd Eberwine (guitar/vox)Jim Doersam (drums/vox)Aaron Ziolkowski (guitar/vox)Scott Molloy (keys/vox)Ryan John Nogle (bass)
URL:https://events.wnymedia.net/event/eberwine-and-friends-sportsmens-3-19/
LOCATION:Sportsmens Tavern\, 326 Amherst St\, Buffalo\, NY\, 14207\, US
ORGANIZER;CN="eberwine":MAILTO:noreply@facebookmail_com
END:VEVENT
END:VCALENDAR